BEGIN:VCALENDAR
VERSION:2.0
PRODID:-//Library Market//iCal Export//EN
BEGIN:VEVENT
SUMMARY:Read to Carly
UID:35479
DTSTAMP:20260424T125500Z
DTSTART:20260507T210000Z
DTEND:20260507T211500Z
LOCATION:The Brookfield Library, 182 Whisconier Road, Brookfield, CT 06804
 , United States
ROOM: Children&#039;s Area
DESCRIPTION:What do you get when you bring children, dogs and books togeth
 er? You get happy, confident children who love to read!Each child will be
  able to read with Carly for 15 minutes in the Children&#039;s Department.
  You can bring a book of your own or borrow one from the library.For kids
  in First Grade and up. Registration is required. We ask that parents sta
 y at the library but not in the Children&#039;s Area during their child&#0
 39;s appointment.  NEW! Carly will be accepting appointments for Teens an
 d Adults at 5:30 and 5:45.
URL:https://brookfieldlib.librarycalendar.com/event/read-carly-35479
END:VEVENT
END:VCALENDAR
