BEGIN:VCALENDAR
VERSION:2.0
PRODID:-//Library Market//iCal Export//EN
BEGIN:VEVENT
SUMMARY:Read to Mia
UID:35470
DTSTAMP:20260423T031200Z
DTSTART:20260526T211500Z
DTEND:20260526T213000Z
LOCATION:The Brookfield Library, 182 Whisconier Road, Brookfield, CT 06804
 , United States
ROOM: Children&#039;s Area
DESCRIPTION:What do you get when you bring children, dogs and books togeth
 er? You get happy, confident children who love to read!Each child will be
  able to read with Mia for 15 minutes in the Children&#039;s Department. 
 You can bring a book of your own or borrow one from the library.For kids i
 n First Grade and up. Registration is required. We ask that parents stay 
 at the library but not in the Children&#039;s Area during their child&#039
 ;s appointment. 
URL:https://brookfieldlib.librarycalendar.com/event/read-mia-35470
END:VEVENT
END:VCALENDAR
