BEGIN:VCALENDAR
VERSION:2.0
PRODID:-//Library Market//iCal Export//EN
BEGIN:VEVENT
SUMMARY:Homework Helpers
UID:35460
DTSTAMP:20260423T224700Z
DTSTART:20260512T210000Z
DTEND:20260512T230000Z
LOCATION:The Brookfield Library, 182 Whisconier Road, Brookfield, CT 06804
 , United States
ROOM: Upstairs
DESCRIPTION:Teens from the BHS National Honor Society will be now availabl
 e in the Children’s section of The Brookfield Library to help students i
 n grades 2 - 8 with homework. Homework Helpers is a walk-in only program 
 during fixed hours. Tutors will be available on a first come, first serve 
 basis in time blocks of 30 minutes.
URL:https://brookfieldlib.librarycalendar.com/event/homework-helpers-35460
END:VEVENT
END:VCALENDAR
