BEGIN:VCALENDAR
VERSION:2.0
PRODID:-//Library Market//iCal Export//EN
BEGIN:VEVENT
SUMMARY:Open Embroidery
UID:35451
DTSTAMP:20260423T214700Z
DTSTART:20260527T190000Z
DTEND:20260527T203000Z
LOCATION:The Brookfield Library, 182 Whisconier Road, Brookfield, CT 06804
 , United States
ROOM: the Community Room
DESCRIPTION:Open time to use the library&#039;s embroidery machines. Bri
 ng your own project to work on. We will supply all thread and other notion
 s.There will be no formal instruction, but assistance will be provided for
  the machines if necessary.Registration required. 
URL:https://brookfieldlib.librarycalendar.com/event/open-embroidery-35451
END:VEVENT
END:VCALENDAR
