BEGIN:VCALENDAR
VERSION:2.0
PRODID:-//Library Market//iCal Export//EN
BEGIN:VEVENT
SUMMARY:Mindfulness for All
UID:35259
DTSTAMP:20260423T031200Z
DTSTART:20260513T223000Z
DTEND:20260513T233000Z
LOCATION:
DESCRIPTION:Take a pause and join us for a gentle online mindfulness class
  designed to help you relax, refocus, and recharge. Through simple guided 
 practices, instructor Prabha Makayee will teach techniques you can use any
 time to reduce stress and find calm. All are welcome—no experience neede
 d.
URL:https://brookfieldlib.librarycalendar.com/event/mindfulness-all-35259
END:VEVENT
END:VCALENDAR
