BEGIN:VCALENDAR
VERSION:2.0
PRODID:-//Library Market//iCal Export//EN
BEGIN:VEVENT
SUMMARY:Curtain Callers Book Group
UID:35258
DTSTAMP:20260422T130400Z
DTSTART:20260514T220000Z
DTEND:20260514T230000Z
LOCATION:Brookfield Theatre, 184 Whisconier Rd, Brookfield, CT 06804, Unit
 ed States
ROOM: Curtain Callers Book Group
DESCRIPTION:Every month we will read a new play, then meet up to discuss i
 t and read key scenes out loud together. Perfect for bookworms and thespia
 ns alike!This month, we will be reading Arsenic and Old Lace by Joseph Kes
 selring. Scripts are available for pick-up at the Circulation Desk.Arsenic
  and Old Lace is a farcical black comedy in which a newly engaged theater 
 critic discovers his beloved spinster aunts are homicidal maniacs, and tha
 t madness runs in the family. It is best known by its 1944 film adaptation
  starring Cary Grant.Curtain Callers is a collaboration with the Brookfiel
 d Theatre, and is hosted at their location next door at 184 Whisconier Rd.
URL:https://brookfieldlib.librarycalendar.com/event/curtain-callers-35258
END:VEVENT
END:VCALENDAR
