BEGIN:VCALENDAR
VERSION:2.0
PRODID:-//Library Market//iCal Export//EN
BEGIN:VEVENT
SUMMARY:Froggie Stories &amp; Craft - Ages 3-7
UID:35167
DTSTAMP:20260422T130400Z
DTSTART:20260516T143000Z
DTEND:20260516T153000Z
LOCATION:The Brookfield Library, 182 Whisconier Road, Brookfield, CT 06804
 , United States
ROOM: Children&#039;s Area
DESCRIPTION:
URL:https://brookfieldlib.librarycalendar.com/event/froggie-stories-craft-
 ages-3-7-35167
END:VEVENT
END:VCALENDAR
