BEGIN:VCALENDAR
VERSION:2.0
PRODID:-//Library Market//iCal Export//EN
BEGIN:VEVENT
SUMMARY:Brookfield Builders
UID:35063
DTSTAMP:20260422T021500Z
DTSTART:20260502T143000Z
DTEND:20260502T153000Z
LOCATION:The Brookfield Library, 182 Whisconier Road, Brookfield, CT 06804
 , United States
ROOM: the Community Room
DESCRIPTION:Build creativity and STEAM skills while you take on a thematic
  building challenge, or come up with your own creation! We&#039;ll have a 
 variety of building materials -- Lego bricks, MagnaTiles, and old-fashione
 d cardboard blocks for little ones This event is for ALL AGES. Registrati
 on is appreciated.
URL:https://brookfieldlib.librarycalendar.com/event/brookfield-builders-35
 063
END:VEVENT
END:VCALENDAR
