BEGIN:VCALENDAR
VERSION:2.0
PRODID:-//Library Market//iCal Export//EN
BEGIN:VEVENT
SUMMARY:Mah Jongg - Evening Session
UID:34827
DTSTAMP:20260423T224700Z
DTSTART:20260629T220000Z
DTEND:20260630T000000Z
LOCATION:The Brookfield Library, 182 Whisconier Road, Brookfield, CT 06804
 , United States
ROOM: the Community Room
DESCRIPTION:Mah Jongg is more than just a game - it offers a mix of mental
 , social and emotional benefits that make it especially appealing across g
 enerations. Advantages include building brain health and community &amp; f
 riendships while enjoying a fun escape.
URL:https://brookfieldlib.librarycalendar.com/event/mah-jongg-evening-sess
 ion-34827
END:VEVENT
END:VCALENDAR
