BEGIN:VCALENDAR
VERSION:2.0
PRODID:-//Library Market//iCal Export//EN
BEGIN:VEVENT
SUMMARY:Library Board of Trustees meeting
UID:34740
DTSTAMP:20260423T103900Z
DTSTART:20260520T230000Z
DTEND:20260521T003000Z
LOCATION:The Brookfield Library, 182 Whisconier Road, Brookfield, CT 06804
 , United States
ROOM: Upstairs
DESCRIPTION:The Library Board meeting will be held on the first floor of t
 he library. This meeting was originally scheduled on May 27th but has been
  changed to May 20th. 
URL:https://brookfieldlib.librarycalendar.com/event/library-board-trustees
 -meeting-34740
END:VEVENT
END:VCALENDAR
