BEGIN:VCALENDAR
VERSION:2.0
PRODID:-//Library Market//iCal Export//EN
BEGIN:VEVENT
SUMMARY:Kids Can Cook No Bake Afternoon Snacks
UID:34139
DTSTAMP:20260423T224700Z
DTSTART:20260512T213000Z
DTEND:20260512T223000Z
LOCATION:The Brookfield Library, 182 Whisconier Road, Brookfield, CT 06804
 , United States
ROOM: the Community Room
DESCRIPTION:Children will follow simple recipes to make healthy and fun af
 ternoon snacks! For ages 5-10.
URL:https://brookfieldlib.librarycalendar.com/event/childrens-program-3413
 9
END:VEVENT
END:VCALENDAR
