BEGIN:VCALENDAR
VERSION:2.0
PRODID:-//Library Market//iCal Export//EN
BEGIN:VEVENT
SUMMARY:Spice of the Month Club
UID:33922
DTSTAMP:20260422T082500Z
DTSTART:20260504T200000Z
DTEND:20260504T213000Z
LOCATION:The Brookfield Library, 182 Whisconier Road, Brookfield, CT 06804
 , United States
ROOM: the Community Room
DESCRIPTION:First Spice of the Month Club meeting! May featuring Nutmeg.Sa
 mples of the spice will be distributed. Cooking demonstration of featured
  recipe using nutmeg. 
URL:https://brookfieldlib.librarycalendar.com/event/spice-month-club-33922
END:VEVENT
END:VCALENDAR
