BEGIN:VCALENDAR
VERSION:2.0
PRODID:-//Library Market//iCal Export//EN
BEGIN:VEVENT
SUMMARY:America 250: Patriotic Coasters Craft
UID:32911
DTSTAMP:20260421T164200Z
DTSTART:20260505T180000Z
DTEND:20260505T193000Z
LOCATION:The Brookfield Library, 182 Whisconier Road, Brookfield, CT 06804
 , United States
ROOM: the Community Room
DESCRIPTION:Embrace the spirit of America&#039;s big birthday by making a 
 set of decoupage flag coasters.
URL:https://brookfieldlib.librarycalendar.com/event/america-250-craft-prog
 ram-1-32911
END:VEVENT
END:VCALENDAR
