BEGIN:VCALENDAR
VERSION:2.0
PRODID:-//Library Market//iCal Export//EN
BEGIN:VEVENT
SUMMARY:America 250: Pocket General Store
UID:32908
DTSTAMP:20260420T091900Z
DTSTART:20260715T180000Z
DTEND:20260715T193000Z
LOCATION:The Brookfield Library, 182 Whisconier Road, Brookfield, CT 06804
 , United States
ROOM: the Community Room
DESCRIPTION:Create a miniature General Store--inside an Altoid&#039;s tin!
 In the 18th and 19th Century, a &quot;general store&quot; was the main hub
  in small rural towns where people would do their shopping. It would carry
  a broad array of goods and necessities.We will decorate the inside of our
  general store with various miniature sundries and discuss the history of 
 some of the things you might find for sale.
URL:https://brookfieldlib.librarycalendar.com/event/america-250-craft-prog
 ram-3-32908
END:VEVENT
END:VCALENDAR
